BEGIN:VCALENDAR
VERSION:2.0
PRODID:gruene-detmold.de
METHOD:PUBLISH
BEGIN:VTIMEZONE
TZID:Europe/Berlin
X-LIC-LOCATION:Europe/Berlin
BEGIN:DAYLIGHT
TZOFFSETFROM:+0100
TZOFFSETTO:+0200
TZNAME:CEST
DTSTART:19700329T020000
RRULE:FREQ=YEARLY;INTERVAL=1;BYDAY=-1SU;BYMONTH=3
END:DAYLIGHT
BEGIN:STANDARD
TZOFFSETFROM:+0200
TZOFFSETTO:+0100
TZNAME:CET
DTSTART:19701025T030000
RRULE:FREQ=YEARLY;INTERVAL=1;BYDAY=-1SU;BYMONTH=10
END:STANDARD
END:VTIMEZONE
BEGIN:VEVENT
UID:<span class="__eae_r13">5n8qn73476oq3829n7sn6s46492op346@tehrar-qrgzbyq.qr</span>
URL;VALUE=URI:https://gruene-detmold.de/termine/ag-a/
LOCATION:Büro, Meierstr. 17, Detmold
SUMMARY:AG A
DESCRIPTION;ALTREP="data:text/html,%0A%3Cp%3EVorbereitung%20A.%20f.%20Sta
 dtentwicklung%3C%2Fp%3E%0A":Vorbereitung A. f. Stadtentwicklung
CLASS:PUBLIC
DTSTART;TZID=Europe/Berlin:20230130T160000
DTEND;TZID=Europe/Berlin:20230130T170000
DTSTAMP:20260424T023459
END:VEVENT
END:VCALENDAR