BEGIN:VCALENDAR
VERSION:2.0
PRODID:gruene-detmold.de
METHOD:PUBLISH
BEGIN:VTIMEZONE
TZID:Europe/Berlin
X-LIC-LOCATION:Europe/Berlin
BEGIN:DAYLIGHT
TZOFFSETFROM:+0100
TZOFFSETTO:+0200
TZNAME:CEST
DTSTART:19700329T020000
RRULE:FREQ=YEARLY;INTERVAL=1;BYDAY=-1SU;BYMONTH=3
END:DAYLIGHT
BEGIN:STANDARD
TZOFFSETFROM:+0200
TZOFFSETTO:+0100
TZNAME:CET
DTSTART:19701025T030000
RRULE:FREQ=YEARLY;INTERVAL=1;BYDAY=-1SU;BYMONTH=10
END:STANDARD
END:VTIMEZONE
BEGIN:VEVENT
UID:<span class="__eae_r13">sp04149646pro91595pp8oqoo023nos8@tehrar-qrgzbyq.qr</span>
URL;VALUE=URI:https://gruene-detmold.de/termine/robin-wagener-mdb-in-detm
 old/
LOCATION:Detmold, Marktplatz 5
SUMMARY:Robin Wagener, MdB, in Detmold
DESCRIPTION;ALTREP="data:text/html,%0A%3Cp%3EAm%20Donnerstag%2C%20den%201
 7.%2011.%20wird%20unser%20Bundestagsabgeordneter%20Robin%20Wagener%20zwis
 chen%2012%20und%2013%20Uhr%20am%20Marktplatz%20vor%20der%20ehemaligen%20T
 ourist-Information%20f%C3%BCr%20Fragen%20und%20Anregungen%20der%20Detmold
 er%20B%C3%BCrger%2Ainnen%20zur%20Verf%C3%BCgung%20stehen.%3C%2Fp%3E%0A":A
 m Donnerstag\, den 17. 11. wird unser Bundestagsabgeordneter Robin Wagene
 r zwischen 12 und 13 Uhr am Marktplatz vor der ehemaligen Tourist-Informa
 tion für Fragen und Anregungen der Detmolder Bürger*innen zur Verfügun
 g stehen.
CLASS:PUBLIC
DTSTART;TZID=Europe/Berlin:20221117T120000
DTEND;TZID=Europe/Berlin:20221117T130000
DTSTAMP:20260421T033510
END:VEVENT
END:VCALENDAR