BEGIN:VCALENDAR
VERSION:2.0
PRODID:gruene-detmold.de
METHOD:PUBLISH
BEGIN:VTIMEZONE
TZID:Europe/Berlin
X-LIC-LOCATION:Europe/Berlin
BEGIN:DAYLIGHT
TZOFFSETFROM:+0100
TZOFFSETTO:+0200
TZNAME:CEST
DTSTART:19700329T020000
RRULE:FREQ=YEARLY;INTERVAL=1;BYDAY=-1SU;BYMONTH=3
END:DAYLIGHT
BEGIN:STANDARD
TZOFFSETFROM:+0200
TZOFFSETTO:+0100
TZNAME:CET
DTSTART:19701025T030000
RRULE:FREQ=YEARLY;INTERVAL=1;BYDAY=-1SU;BYMONTH=10
END:STANDARD
END:VTIMEZONE
BEGIN:VEVENT
UID:<span class="__eae_r13">03on95582n29q5n8p8q78p449po6oq32@tehrar-qrgzbyq.qr</span>
URL;VALUE=URI:https://gruene-detmold.de/termine/wahlkampfstand/
LOCATION:Lange Straße neben Bäckerei Engel
SUMMARY:Wahlkampfstand
DESCRIPTION;ALTREP="data:text/html,%0A%3Cp%3E%3C%2Fp%3E%0A%0A%0A%0A%3Cp%3
 Emit%20Robin%20Wagener%2C%20Direktkandidat%20aus%20Lippe.%20Wir%20freuen%
 20uns%20auf%20anregende%20Gespr%C3%A4che.%3C%2Fp%3E%0A":mit Robin Wagener
 \, Direktkandidat aus Lippe. Wir freuen uns auf anregende Gespräche.
CLASS:PUBLIC
DTSTART;TZID=Europe/Berlin:20210925T100000
DTEND;TZID=Europe/Berlin:20210925T140000
DTSTAMP:20260421T025001
END:VEVENT
END:VCALENDAR